BEGIN:VCALENDAR
VERSION:2.0
PRODID:-//Deutscher SanOA e.V. - ECPv5.3.1.1//NONSGML v1.0//EN
CALSCALE:GREGORIAN
METHOD:PUBLISH
X-WR-CALNAME:Deutscher SanOA e.V.
X-ORIGINAL-URL:https://www.sanoaev.de
X-WR-CALDESC:Veranstaltungen für Deutscher SanOA e.V.
BEGIN:VTIMEZONE
TZID:Europe/Berlin
BEGIN:DAYLIGHT
TZOFFSETFROM:+0100
TZOFFSETTO:+0200
TZNAME:CEST
DTSTART:20200329T010000
END:DAYLIGHT
BEGIN:STANDARD
TZOFFSETFROM:+0200
TZOFFSETTO:+0100
TZNAME:CET
DTSTART:20201025T010000
END:STANDARD
END:VTIMEZONE
BEGIN:VEVENT
DTSTART;TZID=Europe/Berlin:20200117T200000
DTEND;TZID=Europe/Berlin:20200118T040000
DTSTAMP:20260420T134541
CREATED:20190724T100043Z
LAST-MODIFIED:20200502T074313Z
UID:965-1579291200-1579320000@www.sanoaev.de
SUMMARY:Ball der Offiziere 2020
DESCRIPTION:Ball der Offizieren des Bundesheeres am 17. Januar 2020\nErfreuen Sie sich an Galauniformen aus aller Welt und tanzen sie im stilvollen Ambiente bis zum Zapfenstreich. \nDer „Alt-Neustädter Ball“ – besser bekannt als der „Ball der Offiziere“ – ist eine Veranstaltung mit langer Tradition. Menschen aus unterschiedlichen Gesellschafts-\, Berufs- und Altersgruppen treffen einander immer wieder gerne zum geselligen Beisammensein. Die Uniformen aus aller Welt verdeutlichen die Einbettung des Bundesheeres und seiner Offiziere in der österreichischen Gesellschaft sowie der internationalen Gemeinschaft. \nOrganisiert wird der Ball jährlich von der Absolventenvereinigung Alt-Neustadt\, ein „Verein“ also aller „Absolventen“ der Theresianischen Militärakademie\, welche 1751 gegründet und in welcher 1752 der erste Unterricht aufgenommen wurde. \nDer Ball der Offiziere in der Hofburg\nÜber 600 Jahre war die Hofburg – mitten im Herzen Wiens – nicht nur Zentrum des Habsburgerreiches\, sondern vor allem auch Hauptresidenz der kaiserlichen Familie. Die ältesten Teile des komplexen Gebäudes stammen aus dem 13. Jahrhundert und wurden sukzessive erweitert – die „Alte Burg“ diente beispielsweise Feldmarschall Radetzky (1766-1858) als Wohnsitz. Kein einheitlicher Bau – wie viele andere Residenzen – zeichnen die Wiener Hofburg aus: Es handelt sich hierbei um ein im Lauf der Jahrhunderte entstandenes Denkmal\, das sich heute wie ein Ensemble aus scheinbar zufällig zusammen gewürfelten Stilarten darstellt. \nAdresse: Heldenplatz\, 1010 Wien \nWichtiger Hinweis zur Ticketvergabe\nDie Ballkarte wird nur in Kombination mit der Unterkunft vergeben. \n\nHerrenkarten € 211\,- p.P. (3 Karten insgesamt)\nDamenkarte € 211\,- p.P. (3 Karten insgesamt)\nStudentenkarte € 55\,- p.P. (Alter zum Zeitpunkt des Balles max 26 Jahre und Vorlage eines gültigen Studentenausweises – 6 Karten insgesamt)\nDerag Livinghotel an der Oper DZ € 111\,- p.P. (2 ÜN ohne Frühstück) \n\n Leider sind bereits alle von uns reservierten Karten gebucht.
URL:https://www.sanoaev.de/event/ball-der-offiziere-2020/
LOCATION:Hofburg in Wien\, Heldenplatz\, Wien\, 101\, Österreich
END:VEVENT
END:VCALENDAR