BEGIN:VCALENDAR
VERSION:2.0
PRODID:-//Deutscher SanOA e.V. - ECPv5.3.1.1//NONSGML v1.0//EN
CALSCALE:GREGORIAN
METHOD:PUBLISH
X-WR-CALNAME:Deutscher SanOA e.V.
X-ORIGINAL-URL:https://www.sanoaev.de
X-WR-CALDESC:Veranstaltungen für Deutscher SanOA e.V.
BEGIN:VTIMEZONE
TZID:Europe/Berlin
BEGIN:DAYLIGHT
TZOFFSETFROM:+0100
TZOFFSETTO:+0200
TZNAME:CEST
DTSTART:20230326T010000
END:DAYLIGHT
BEGIN:STANDARD
TZOFFSETFROM:+0200
TZOFFSETTO:+0100
TZNAME:CET
DTSTART:20231029T010000
END:STANDARD
END:VTIMEZONE
BEGIN:VEVENT
DTSTART;TZID=Europe/Berlin:20230904T080000
DTEND;TZID=Europe/Berlin:20230908T170000
DTSTAMP:20260424T143159
CREATED:20230615T114103Z
LAST-MODIFIED:20230615T123334Z
UID:1950-1693814400-1694192400@www.sanoaev.de
SUMMARY:6. Internationales militärmedizinisches Projekt
DESCRIPTION:Thema: AirMedEvac\nDie Entstehung des Verwundetenluftransportes L’origine du transport aérien des blessés\nbinationale Bildungsprojekt zwischen dem deutschen und\nfranzösischen Sanitätsdienst\nin Kleingruppen: Erarbeitung einer Seminararbeit\n\nBewerbung in Form eines Motivationsschreibens bis zum 30.06.2023 über die Betreuungsdienststellen an sanakbwinternationalprojects@bundeswehr.org \n  \n 
URL:https://www.sanoaev.de/event/6-internationales-militaermedizinisches-projekt/
LOCATION:Sanitätsakademie der Bundeswehr München\, Neuherbergstraße 11\, München\, Bayern\, 80937\, Deutschland
ATTACH;FMTTYPE=image/png:https://www.sanoaev.de/wp-content/uploads/2023/06/6.-Internationales-militaermedizinisches-Projekt.png
END:VEVENT
END:VCALENDAR